View In:
ArcGIS JavaScript
ArcGIS Online Map Viewer
ArcGIS Earth
ArcMap
View Footprint In:
ArcGIS Online Map Viewer
Service Description: Lojic/HistoricImagery2009
Name: Lojic/HistoricImagery2009
Description:
Single Fused Map Cache: true
Tile Info:
- Height: 512
- Width: 512
- DPI: 96
-
Levels of Detail: 12
- Format: JPEG
- Compression Quality: 75.0
- LERC Error: NaN
- Origin: X: -1.204284E8
Y: 1.487922E8
- Spatial Reference: 102679
(2246)
Extent:
XMin: 1148999.572839066
YMin: 184000.5148467188
XMax: 1310999.5490426426
YMax: 324000.49428190856
Spatial Reference: 102679
(2246)
Initial Extent:
XMin: 1148999.572839066
YMin: 184000.5148467188
XMax: 1310999.5490426426
YMax: 324000.49428190856
Spatial Reference: 102679
(2246)
Full Extent:
XMin: 1148999.572839066
YMin: 184000.5148467188
XMax: 1310999.5490426426
YMax: 324000.49428190856
Spatial Reference: 102679
(2246)
Pixel Size X: 0.49999992655424896
Pixel Size Y: 0.4999999265542491
Band Count: 3
Pixel Type: U8
RasterFunction Infos: {"rasterFunctionInfos": [{
"name": "None",
"description": "",
"help": ""
}]}
Mensuration Capabilities: Basic
Has Histograms: true
Has Colormap: false
Has Multi Dimensions : false
Rendering Rule:
Min Scale: 614400
Max Scale: 300
Copyright Text:
Service Data Type: esriImageServiceDataTypeRGB
Min Values: 30, 46, 55
Max Values: 255, 255, 255
Mean Values: 192.08739324940413, 194.299147150477, 187.0910495565359
Standard Deviation Values: 60.281627751317565, 58.26118678709223, 64.77281441716859
Object ID Field:
Fields:
None
Default Mosaic Method: Center
Allowed Mosaic Methods:
SortField:
SortValue: null
Mosaic Operator: First
Default Compression Quality: 75
Default Resampling Method: Bilinear
Max Record Count: null
Max Image Height: 4100
Max Image Width: 15000
Max Download Image Count: null
Max Mosaic Image Count: null
Allow Raster Function: true
Allow Compute TiePoints: false
Supports Statistics: false
Supports Advanced Queries: false
Use StandardizedQueries: true
Raster Type Infos:
Name: Raster Dataset
Description: Supports all ArcGIS Raster Datasets
Help:
Has Raster Attribute Table: false
Edit Fields Info: null
Ownership Based AccessControl For Rasters: null
Child Resources:
Info
Histograms
Key Properties
Legend
MultiDimensionalInfo
rasterFunctionInfos
Supported Operations:
Export Image
Identify
Measure
Compute Histograms
Compute Statistics Histograms
Get Samples
Compute Class Statistics
Query Boundary