View In:
ArcGIS JavaScript
ArcGIS Online Map Viewer
ArcGIS Earth
ArcMap
View Footprint In:
ArcGIS Online Map Viewer
Service Description: Lojic/HistoricImagery2012
Name: Lojic/HistoricImagery2012
Description:
Single Fused Map Cache: true
Tile Info:
- Height: 512
- Width: 512
- DPI: 96
-
Levels of Detail: 12
- Format: JPEG
- Compression Quality: 75.0
- LERC Error: NaN
- Origin: X: -1.204284E8
Y: 1.487922E8
- Spatial Reference: 102679
(2246)
Extent:
XMin: 1146895.9999999984
YMin: 183656.9999999913
XMax: 1313522.5000000014
YMax: 327371.50000000617
Spatial Reference: 102679
(2246)
Initial Extent:
XMin: 1146895.9999999984
YMin: 183656.9999999913
XMax: 1313522.5000000014
YMax: 327371.50000000617
Spatial Reference: 102679
(2246)
Full Extent:
XMin: 1146895.9999999984
YMin: 183656.9999999913
XMax: 1313522.5000000014
YMax: 327371.50000000617
Spatial Reference: 102679
(2246)
Pixel Size X: 0.5
Pixel Size Y: 0.5
Band Count: 3
Pixel Type: U8
RasterFunction Infos: {"rasterFunctionInfos": [{
"name": "None",
"description": "",
"help": ""
}]}
Mensuration Capabilities: Basic
Has Histograms: true
Has Colormap: false
Has Multi Dimensions : false
Rendering Rule:
Min Scale: 614400
Max Scale: 300
Copyright Text:
Service Data Type: esriImageServiceDataTypeRGB
Min Values: 0, 0, 0
Max Values: 154, 157, 156
Mean Values: 51.88096873926488, 54.99295774647889, 52.5252490553077
Standard Deviation Values: 50.94405313209084, 53.91992280004261, 51.499263398675176
Object ID Field:
Fields:
None
Default Mosaic Method: Center
Allowed Mosaic Methods:
SortField:
SortValue: null
Mosaic Operator: First
Default Compression Quality: 75
Default Resampling Method: Bilinear
Max Record Count: null
Max Image Height: 4100
Max Image Width: 15000
Max Download Image Count: null
Max Mosaic Image Count: null
Allow Raster Function: true
Allow Compute TiePoints: false
Supports Statistics: false
Supports Advanced Queries: false
Use StandardizedQueries: true
Raster Type Infos:
Name: Raster Dataset
Description: Supports all ArcGIS Raster Datasets
Help:
Has Raster Attribute Table: false
Edit Fields Info: null
Ownership Based AccessControl For Rasters: null
Child Resources:
Info
Histograms
Key Properties
Legend
MultiDimensionalInfo
rasterFunctionInfos
Supported Operations:
Export Image
Identify
Measure
Compute Histograms
Compute Statistics Histograms
Get Samples
Compute Class Statistics
Query Boundary