{
 "currentVersion": 10.91,
 "cimVersion": "2.9.0",
 "serviceDescription": "",
 "mapName": "StreetMapGray",
 "description": "",
 "copyrightText": "LOJIC",
 "supportsDynamicLayers": true,
 "layers": [
  {
   "id": 0,
   "name": "TARC Bus Stop",
   "parentLayerId": -1,
   "defaultVisibility": true,
   "subLayerIds": null,
   "minScale": 2400,
   "maxScale": 0,
   "type": "Feature Layer",
   "geometryType": "esriGeometryPoint",
   "supportsDynamicLegends": true
  },
  {
   "id": 1,
   "name": "Bullitt Buildings",
   "parentLayerId": -1,
   "defaultVisibility": true,
   "subLayerIds": null,
   "minScale": 9600,
   "maxScale": 0,
   "type": "Feature Layer",
   "geometryType": "esriGeometryPolygon",
   "supportsDynamicLegends": true
  },
  {
   "id": 2,
   "name": "Jefferson Buildings",
   "parentLayerId": -1,
   "defaultVisibility": true,
   "subLayerIds": null,
   "minScale": 9600,
   "maxScale": 0,
   "type": "Feature Layer",
   "geometryType": "esriGeometryPolygon",
   "supportsDynamicLegends": true
  },
  {
   "id": 3,
   "name": "Oldham Buildings",
   "parentLayerId": -1,
   "defaultVisibility": true,
   "subLayerIds": null,
   "minScale": 9600,
   "maxScale": 0,
   "type": "Feature Layer",
   "geometryType": "esriGeometryPolygon",
   "supportsDynamicLegends": true
  },
  {
   "id": 4,
   "name": "Kentucky Railroads",
   "parentLayerId": -1,
   "defaultVisibility": true,
   "subLayerIds": null,
   "minScale": 76800,
   "maxScale": 0,
   "type": "Feature Layer",
   "geometryType": "esriGeometryPolyline",
   "supportsDynamicLegends": true
  },
  {
   "id": 5,
   "name": "Indiana Railroads",
   "parentLayerId": -1,
   "defaultVisibility": true,
   "subLayerIds": null,
   "minScale": 76800,
   "maxScale": 0,
   "type": "Feature Layer",
   "geometryType": "esriGeometryPolyline",
   "supportsDynamicLegends": true
  },
  {
   "id": 6,
   "name": "Jefferson One Way Arrows",
   "parentLayerId": -1,
   "defaultVisibility": true,
   "subLayerIds": null,
   "minScale": 1200,
   "maxScale": 0,
   "type": "Feature Layer",
   "geometryType": "esriGeometryPolyline",
   "supportsDynamicLegends": true
  },
  {
   "id": 7,
   "name": "Major Roads",
   "parentLayerId": -1,
   "defaultVisibility": true,
   "subLayerIds": null,
   "minScale": 0,
   "maxScale": 0,
   "type": "Feature Layer",
   "geometryType": "esriGeometryPolyline",
   "supportsDynamicLegends": true
  },
  {
   "id": 8,
   "name": "Jefferson Roads",
   "parentLayerId": -1,
   "defaultVisibility": true,
   "subLayerIds": null,
   "minScale": 76800,
   "maxScale": 0,
   "type": "Feature Layer",
   "geometryType": "esriGeometryPolyline",
   "supportsDynamicLegends": true
  },
  {
   "id": 9,
   "name": "Indiana Roads",
   "parentLayerId": -1,
   "defaultVisibility": true,
   "subLayerIds": null,
   "minScale": 0,
   "maxScale": 0,
   "type": "Feature Layer",
   "geometryType": "esriGeometryPolyline",
   "supportsDynamicLegends": true
  },
  {
   "id": 10,
   "name": "Kentucky Roads",
   "parentLayerId": -1,
   "defaultVisibility": true,
   "subLayerIds": null,
   "minScale": 76800,
   "maxScale": 0,
   "type": "Feature Layer",
   "geometryType": "esriGeometryPolyline",
   "supportsDynamicLegends": true
  },
  {
   "id": 11,
   "name": "Oldham Roads",
   "parentLayerId": -1,
   "defaultVisibility": true,
   "subLayerIds": null,
   "minScale": 76800,
   "maxScale": 0,
   "type": "Feature Layer",
   "geometryType": "esriGeometryPolyline",
   "supportsDynamicLegends": true
  },
  {
   "id": 12,
   "name": "County Boundaries",
   "parentLayerId": -1,
   "defaultVisibility": true,
   "subLayerIds": null,
   "minScale": 0,
   "maxScale": 0,
   "type": "Feature Layer",
   "geometryType": "esriGeometryPolygon",
   "supportsDynamicLegends": true
  },
  {
   "id": 13,
   "name": "Major Streams",
   "parentLayerId": -1,
   "defaultVisibility": true,
   "subLayerIds": null,
   "minScale": 76800,
   "maxScale": 0,
   "type": "Feature Layer",
   "geometryType": "esriGeometryPolyline",
   "supportsDynamicLegends": true
  },
  {
   "id": 14,
   "name": "PARKS",
   "parentLayerId": -1,
   "defaultVisibility": true,
   "subLayerIds": [
    15,
    16
   ],
   "minScale": 0,
   "maxScale": 0,
   "type": "Group Layer",
   "supportsDynamicLegends": false
  },
  {
   "id": 15,
   "name": "Metro and Olmsted Parks",
   "parentLayerId": 14,
   "defaultVisibility": true,
   "subLayerIds": null,
   "minScale": 76800,
   "maxScale": 0,
   "type": "Feature Layer",
   "geometryType": "esriGeometryPolygon",
   "supportsDynamicLegends": true
  },
  {
   "id": 16,
   "name": "Other Parks",
   "parentLayerId": 14,
   "defaultVisibility": true,
   "subLayerIds": null,
   "minScale": 76800,
   "maxScale": 0,
   "type": "Feature Layer",
   "geometryType": "esriGeometryPolygon",
   "supportsDynamicLegends": true
  },
  {
   "id": 17,
   "name": "Municipalities",
   "parentLayerId": -1,
   "defaultVisibility": true,
   "subLayerIds": [
    18,
    19,
    20
   ],
   "minScale": 0,
   "maxScale": 0,
   "type": "Group Layer",
   "supportsDynamicLegends": false
  },
  {
   "id": 18,
   "name": "City Names",
   "parentLayerId": 17,
   "defaultVisibility": true,
   "subLayerIds": null,
   "minScale": 0,
   "maxScale": 76800,
   "type": "Feature Layer",
   "geometryType": "esriGeometryPoint",
   "supportsDynamicLegends": true
  },
  {
   "id": 19,
   "name": "Indiana Cities",
   "parentLayerId": 17,
   "defaultVisibility": true,
   "subLayerIds": null,
   "minScale": 0,
   "maxScale": 0,
   "type": "Feature Layer",
   "geometryType": "esriGeometryPolygon",
   "supportsDynamicLegends": true
  },
  {
   "id": 20,
   "name": "Kentucky Cities",
   "parentLayerId": 17,
   "defaultVisibility": true,
   "subLayerIds": null,
   "minScale": 0,
   "maxScale": 0,
   "type": "Feature Layer",
   "geometryType": "esriGeometryPolygon",
   "supportsDynamicLegends": true
  },
  {
   "id": 21,
   "name": "Ohio River",
   "parentLayerId": -1,
   "defaultVisibility": true,
   "subLayerIds": null,
   "minScale": 0,
   "maxScale": 0,
   "type": "Feature Layer",
   "geometryType": "esriGeometryPolygon",
   "supportsDynamicLegends": true
  },
  {
   "id": 22,
   "name": "Regional Counties",
   "parentLayerId": -1,
   "defaultVisibility": true,
   "subLayerIds": null,
   "minScale": 0,
   "maxScale": 0,
   "type": "Feature Layer",
   "geometryType": "esriGeometryPolygon",
   "supportsDynamicLegends": true
  }
 ],
 "tables": [],
 "spatialReference": {
  "wkid": 102679,
  "latestWkid": 2246,
  "xyTolerance": 0.003280833333333333,
  "zTolerance": 0.001,
  "mTolerance": 0.001,
  "falseX": -120428400,
  "falseY": -95345400,
  "xyUnits": 3048.0060960121928,
  "falseZ": -100000,
  "zUnits": 10000,
  "falseM": -100000,
  "mUnits": 10000
 },
 "singleFusedMapCache": true,
 "tileInfo": {
  "rows": 256,
  "cols": 256,
  "dpi": 96,
  "format": "JPEG",
  "compressionQuality": 90,
  "origin": {
   "x": -120428400,
   "y": 1.4879219999999997E8
  },
  "spatialReference": {
   "wkid": 102679,
   "latestWkid": 2246,
   "xyTolerance": 0.0032808333333333335,
   "zTolerance": 2,
   "mTolerance": 2,
   "falseX": -120428400,
   "falseY": -95345400,
   "xyUnits": 3.689394527815867E7,
   "falseZ": 0,
   "zUnits": 1,
   "falseM": -100000,
   "mUnits": 10000
  },
  "lods": [
   {
    "level": 0,
    "resolution": 533.3333333333333,
    "scale": 614400
   },
   {
    "level": 1,
    "resolution": 266.66666666666663,
    "scale": 307200
   },
   {
    "level": 2,
    "resolution": 133.33333333333331,
    "scale": 153600
   },
   {
    "level": 3,
    "resolution": 66.66666666666666,
    "scale": 76800
   },
   {
    "level": 4,
    "resolution": 33.33333333333333,
    "scale": 38400
   },
   {
    "level": 5,
    "resolution": 16.666666666666664,
    "scale": 19200
   },
   {
    "level": 6,
    "resolution": 8.333333333333332,
    "scale": 9600
   },
   {
    "level": 7,
    "resolution": 4.166666666666666,
    "scale": 4800
   },
   {
    "level": 8,
    "resolution": 2.083333333333333,
    "scale": 2400
   },
   {
    "level": 9,
    "resolution": 1.0416666666666665,
    "scale": 1200
   },
   {
    "level": 10,
    "resolution": 0.5208333333333333,
    "scale": 600
   },
   {
    "level": 11,
    "resolution": 0.26041666666666663,
    "scale": 300
   },
   {
    "level": 12,
    "resolution": 0.13020833333333331,
    "scale": 150
   }
  ]
 },
 "storageInfo": {
  "storageFormat": "esriMapCacheStorageModeCompactV2",
  "packetSize": 128
 },
 "initialExtent": {
  "xmin": -33503.66295469878,
  "ymin": -515529.34756202303,
  "xmax": 2468590.182503541,
  "ymax": 1082582.2053435624,
  "spatialReference": {
   "wkid": 102679,
   "latestWkid": 2246,
   "xyTolerance": 0.003280833333333333,
   "zTolerance": 0.001,
   "mTolerance": 0.001,
   "falseX": -120428400,
   "falseY": -95345400,
   "xyUnits": 3048.0060960121928,
   "falseZ": -100000,
   "zUnits": 10000,
   "falseM": -100000,
   "mUnits": 10000
  }
 },
 "fullExtent": {
  "xmin": -3,
  "ymin": -349400,
  "xmax": 2287634.08750001,
  "ymax": 1564816.50375,
  "spatialReference": {
   "wkid": 102679,
   "latestWkid": 2246,
   "xyTolerance": 0.003280833333333333,
   "zTolerance": 0.001,
   "mTolerance": 0.001,
   "falseX": -120428400,
   "falseY": -95345400,
   "xyUnits": 3048.0060960121928,
   "falseZ": -100000,
   "zUnits": 10000,
   "falseM": -100000,
   "mUnits": 10000
  }
 },
 "datesInUnknownTimezone": false,
 "minScale": 614400,
 "maxScale": 150,
 "units": "esriFeet",
 "supportedImageFormatTypes": "PNG32,PNG24,PNG,JPG,DIB,TIFF,EMF,PS,PDF,GIF,SVG,SVGZ,BMP",
 "documentInfo": {
  "Title": "Street Map Basic",
  "Author": "",
  "Comments": "",
  "Subject": "",
  "Category": "",
  "AntialiasingMode": "None",
  "TextAntialiasingMode": "Force",
  "Version": "2.9.0",
  "Keywords": "Basemap"
 },
 "supportsQueryDomains": true,
 "capabilities": "Map,Query,Data",
 "supportedQueryFormats": "JSON, geoJSON, PBF",
 "hasVersionedData": true,
 "exportTilesAllowed": false,
 "referenceScale": 0.0,
 "datumTransformations": [
  {
   "geoTransforms": [
    {
     "wkid": 108190,
     "latestWkid": 108190,
     "transformForward": true,
     "name": "WGS_1984_(ITRF00)_To_NAD_1983"
    }
   ]
  },
  {
   "geoTransforms": [
    {
     "wkid": 108190,
     "latestWkid": 108190,
     "transformForward": false,
     "name": "WGS_1984_(ITRF00)_To_NAD_1983"
    }
   ]
  }
 ],
 "supportsDatumTransformation": true,
 "archivingInfo": {
  "supportsHistoricMoment": false
 },
 "supportsClipping": true,
 "supportsSpatialFilter": true,
 "supportsTimeRelation": true,
 "supportsQueryDataElements": true,
 "maxRecordCount": 2000,
 "maxImageHeight": 4096,
 "maxImageWidth": 4096,
 "supportedExtensions": ""
}
